BEGIN:VCALENDAR
VERSION:2.0
PRODID:-//Burger Barn - ECPv6.15.20//NONSGML v1.0//EN
CALSCALE:GREGORIAN
METHOD:PUBLISH
X-ORIGINAL-URL:https://burgerbarnmn.com
X-WR-CALDESC:Events for Burger Barn
REFRESH-INTERVAL;VALUE=DURATION:PT1H
X-Robots-Tag:noindex
X-PUBLISHED-TTL:PT1H
BEGIN:VTIMEZONE
TZID:America/Chicago
BEGIN:DAYLIGHT
TZOFFSETFROM:-0600
TZOFFSETTO:-0500
TZNAME:CDT
DTSTART:20230312T080000
END:DAYLIGHT
BEGIN:STANDARD
TZOFFSETFROM:-0500
TZOFFSETTO:-0600
TZNAME:CST
DTSTART:20231105T070000
END:STANDARD
BEGIN:DAYLIGHT
TZOFFSETFROM:-0600
TZOFFSETTO:-0500
TZNAME:CDT
DTSTART:20240310T080000
END:DAYLIGHT
BEGIN:STANDARD
TZOFFSETFROM:-0500
TZOFFSETTO:-0600
TZNAME:CST
DTSTART:20241103T070000
END:STANDARD
BEGIN:DAYLIGHT
TZOFFSETFROM:-0600
TZOFFSETTO:-0500
TZNAME:CDT
DTSTART:20250309T080000
END:DAYLIGHT
BEGIN:STANDARD
TZOFFSETFROM:-0500
TZOFFSETTO:-0600
TZNAME:CST
DTSTART:20251102T070000
END:STANDARD
BEGIN:DAYLIGHT
TZOFFSETFROM:-0600
TZOFFSETTO:-0500
TZNAME:CDT
DTSTART:20260308T080000
END:DAYLIGHT
BEGIN:STANDARD
TZOFFSETFROM:-0500
TZOFFSETTO:-0600
TZNAME:CST
DTSTART:20261101T070000
END:STANDARD
END:VTIMEZONE
BEGIN:VEVENT
DTSTART;TZID=America/Chicago:20250606T110000
DTEND;TZID=America/Chicago:20250606T140000
DTSTAMP:20260423T113647
CREATED:20250222T003309Z
LAST-MODIFIED:20250222T003309Z
UID:929-1749207600-1749218400@burgerbarnmn.com
SUMMARY:Warrior Brewing Company
DESCRIPTION:Burger Barn LLC @ Warrior Brewing Company \n11 am – 2 pm
URL:https://burgerbarnmn.com/events/warrior-brewing-company/
LOCATION:Warrior Brewing Company\, 2711 West Superior Street\, Suite #204\, Duluth\, MN\, 55806\, United States
END:VEVENT
BEGIN:VEVENT
DTSTART;TZID=America/Chicago:20250605T110000
DTEND;TZID=America/Chicago:20250605T130000
DTSTAMP:20260423T113647
CREATED:20250222T002310Z
LAST-MODIFIED:20250222T002310Z
UID:910-1749121200-1749128400@burgerbarnmn.com
SUMMARY:Reliable Insurance - Cloquet
DESCRIPTION:Burger Barn @ Reliable Insurance – Cloquet \n11 am – 1 pm
URL:https://burgerbarnmn.com/events/reliable-insurance-cloquet-2/
LOCATION:Reliable Insurance – Cloquet\, 803 Carlton Avenue\, Cloquet\, MN\, 55720\, United States
END:VEVENT
BEGIN:VEVENT
DTSTART;TZID=America/Chicago:20250531T130000
DTEND;TZID=America/Chicago:20250531T160000
DTSTAMP:20260423T113647
CREATED:20250212T181908Z
LAST-MODIFIED:20250212T181908Z
UID:855-1748696400-1748707200@burgerbarnmn.com
SUMMARY:Private Event
DESCRIPTION:Private Event
URL:https://burgerbarnmn.com/events/private-event/
LOCATION:MN
END:VEVENT
BEGIN:VEVENT
DTSTART;TZID=America/Chicago:20250530T170000
DTEND;TZID=America/Chicago:20250530T200000
DTSTAMP:20260423T113647
CREATED:20250313T175610Z
LAST-MODIFIED:20250313T175610Z
UID:967-1748624400-1748635200@burgerbarnmn.com
SUMMARY:218 TapHouse - Cloquet
DESCRIPTION:Burger Barn LLC @ 218 TapHouse \n5-8pm
URL:https://burgerbarnmn.com/events/218-taphouse-cloquet-2/
LOCATION:218 TapHouse\, 918 Hwy 33\, Cloquet\, MN\, 55720\, United States
END:VEVENT
BEGIN:VEVENT
DTSTART;TZID=America/Chicago:20250522T180000
DTEND;TZID=America/Chicago:20250522T200000
DTSTAMP:20260423T113647
CREATED:20250313T175449Z
LAST-MODIFIED:20250313T175641Z
UID:964-1747936800-1747944000@burgerbarnmn.com
SUMMARY:218 TapHouse - Cloquet
DESCRIPTION:Burger Barn LLC @ 218 TapHouse \n6-8pm
URL:https://burgerbarnmn.com/events/218-taphouse-cloquet/
LOCATION:218 TapHouse\, 918 Hwy 33\, Cloquet\, MN\, 55720\, United States
END:VEVENT
BEGIN:VEVENT
DTSTART;TZID=America/Chicago:20250519T110000
DTEND;TZID=America/Chicago:20250519T133000
DTSTAMP:20260423T113647
CREATED:20250212T183154Z
LAST-MODIFIED:20250212T183154Z
UID:857-1747652400-1747661400@burgerbarnmn.com
SUMMARY:Cirrus Production
DESCRIPTION:Burger Barn at Cirrus Production \n11 am – 1:30 pm
URL:https://burgerbarnmn.com/events/cirrus-production-2/
LOCATION:Cirrus Aircraft\, 4515 Taylor Circle\, Duluth\, MN\, 55811\, United States
END:VEVENT
BEGIN:VEVENT
DTSTART;TZID=America/Chicago:20250517T160000
DTEND;TZID=America/Chicago:20250517T200000
DTSTAMP:20260423T113647
CREATED:20250212T180716Z
LAST-MODIFIED:20250212T180716Z
UID:837-1747497600-1747512000@burgerbarnmn.com
SUMMARY:Moose Lake Brewing Company
DESCRIPTION:Burger Barn @ Moose Lake Brewing Company \n4-8 pm
URL:https://burgerbarnmn.com/events/moose-lake-brewing-company/
LOCATION:Moose Lake Brewing Company\, 244 Lakeshore Drive\, Moose Lake\, MN\, 55767\, United States
END:VEVENT
BEGIN:VEVENT
DTSTART;TZID=America/Chicago:20250516T160000
DTEND;TZID=America/Chicago:20250516T200000
DTSTAMP:20260423T113647
CREATED:20250212T180437Z
LAST-MODIFIED:20250212T180437Z
UID:833-1747411200-1747425600@burgerbarnmn.com
SUMMARY:Moose Lake Brewing Co
DESCRIPTION:Burger Barn @ Moose Lake Brewing Co \n4-8 pm
URL:https://burgerbarnmn.com/events/moose-lake-brewing-co/
LOCATION:Moose Lake Brewing Company\, 244 Lakeshore Drive\, Moose Lake\, MN\, 55767\, United States
END:VEVENT
BEGIN:VEVENT
DTSTART;TZID=America/Chicago:20240928T103000
DTEND;TZID=America/Chicago:20240928T143000
DTSTAMP:20260423T113647
CREATED:20240904T151551Z
LAST-MODIFIED:20240904T151551Z
UID:822-1727519400-1727533800@burgerbarnmn.com
SUMMARY:Floodwood Fall Fest
DESCRIPTION:Burger Barn at Floodwood Fall Fest \n10:30 am – 2:30 pm
URL:https://burgerbarnmn.com/events/floodwood-fall-fest/
LOCATION:MN
END:VEVENT
BEGIN:VEVENT
DTSTART;TZID=America/Chicago:20240921T170000
DTEND;TZID=America/Chicago:20240921T200000
DTSTAMP:20260423T113647
CREATED:20240703T185233Z
LAST-MODIFIED:20240703T185233Z
UID:753-1726938000-1726948800@burgerbarnmn.com
SUMMARY:Moose Lake Brewery
DESCRIPTION:Burger Barn at Moose Lake Brewery \n5 pm – 8 pm
URL:https://burgerbarnmn.com/events/moose-lake-brewery-3/
LOCATION:MN
END:VEVENT
BEGIN:VEVENT
DTSTART;TZID=America/Chicago:20240909T130000
DTEND;TZID=America/Chicago:20240909T133000
DTSTAMP:20260423T113647
CREATED:20240904T151322Z
LAST-MODIFIED:20240904T151322Z
UID:818-1725886800-1725888600@burgerbarnmn.com
SUMMARY:Cirrus Production
DESCRIPTION:Burger Barn at Cirrus Production \n11 am – 1:30 pm
URL:https://burgerbarnmn.com/events/cirrus-production/
LOCATION:Cirrus Aircraft\, 4515 Taylor Circle\, Duluth\, MN\, 55811\, United States
END:VEVENT
BEGIN:VEVENT
DTSTART;TZID=America/Chicago:20240829T170000
DTEND;TZID=America/Chicago:20240829T200000
DTSTAMP:20260423T113647
CREATED:20240806T210322Z
LAST-MODIFIED:20240806T210604Z
UID:805-1724950800-1724961600@burgerbarnmn.com
SUMMARY:218 TapHouse
DESCRIPTION:Burger Barn at 218 TapHouse \n5:00 pm – 8:00 pm
URL:https://burgerbarnmn.com/events/218-taphouse-3/
LOCATION:218 TapHouse\, 918 Hwy 33\, Cloquet\, MN\, 55720\, United States
END:VEVENT
BEGIN:VEVENT
DTSTART;TZID=America/Chicago:20240826T110000
DTEND;TZID=America/Chicago:20240826T133000
DTSTAMP:20260423T113647
CREATED:20240717T204136Z
LAST-MODIFIED:20240729T132103Z
UID:786-1724670000-1724679000@burgerbarnmn.com
SUMMARY:Cirrus Aircraft
DESCRIPTION:Cirrus Aircraft 11-1:30 \nBurger Barn at Cirrus Aircraft
URL:https://burgerbarnmn.com/events/cirrus-aircraft-3/
LOCATION:Cirrus Aircraft\, 4515 Taylor Circle\, Duluth\, MN\, 55811\, United States
END:VEVENT
BEGIN:VEVENT
DTSTART;TZID=America/Chicago:20240823T110000
DTEND;TZID=America/Chicago:20240823T133000
DTSTAMP:20260423T113647
CREATED:20240806T210831Z
LAST-MODIFIED:20240806T210831Z
UID:809-1724410800-1724419800@burgerbarnmn.com
SUMMARY:Frandsen Bank & Trust
DESCRIPTION:Burger Barn at Frandsen Bank & Trust \n11:00 am – 1:30 pm
URL:https://burgerbarnmn.com/events/frandsen-bank-trust/
LOCATION:Frandsen Bank & Trust\, 712 Minnesota 33\, Cloquet\, MN\, 55720\, United States
END:VEVENT
BEGIN:VEVENT
DTSTART;TZID=America/Chicago:20240822T163000
DTEND;TZID=America/Chicago:20240822T183000
DTSTAMP:20260423T113647
CREATED:20240821T004821Z
LAST-MODIFIED:20240821T004821Z
UID:815-1724344200-1724351400@burgerbarnmn.com
SUMMARY:Little Willow Open House
DESCRIPTION:Burger Barn at Little Willow Child Care Center Open House \n4:30 pm – 6:30 pm
URL:https://burgerbarnmn.com/events/little-willow-open-house/
LOCATION:Little Willow Child Care Center\, 8121 Highway 61\, Willow River\, MN\, United States
END:VEVENT
BEGIN:VEVENT
DTSTART;TZID=America/Chicago:20240819T110000
DTEND;TZID=America/Chicago:20240819T140000
DTSTAMP:20260423T113647
CREATED:20240717T203744Z
LAST-MODIFIED:20240717T203744Z
UID:779-1724065200-1724076000@burgerbarnmn.com
SUMMARY:Kolar Toyota
DESCRIPTION:Kolar Toyota 11-2 \nBurger Barn at Kolar Toyota
URL:https://burgerbarnmn.com/events/kolar-toyota-2/
LOCATION:Kolar Toyota\, 4781 Miller Trunk Hwy\, Hermantown\, MN\, 55811\, United States
END:VEVENT
BEGIN:VEVENT
DTSTART;TZID=America/Chicago:20240817T120000
DTEND;TZID=America/Chicago:20240817T140000
DTSTAMP:20260423T113647
CREATED:20240703T185134Z
LAST-MODIFIED:20240703T185134Z
UID:751-1723896000-1723903200@burgerbarnmn.com
SUMMARY:Moose Lake Brewery
DESCRIPTION:Burger Barn at Moose Lake Brewery \n12 pm – 2 pm
URL:https://burgerbarnmn.com/events/moose-lake-brewery-2/
LOCATION:MN
END:VEVENT
BEGIN:VEVENT
DTSTART;TZID=America/Chicago:20240816T160000
DTEND;TZID=America/Chicago:20240816T190000
DTSTAMP:20260423T113647
CREATED:20240703T185047Z
LAST-MODIFIED:20240703T185047Z
UID:749-1723824000-1723834800@burgerbarnmn.com
SUMMARY:Moose Lake Brewery
DESCRIPTION:Burger Barn at Moose Lake Brewery \n4 pm – 7 pm
URL:https://burgerbarnmn.com/events/moose-lake-brewery/
LOCATION:MN
END:VEVENT
BEGIN:VEVENT
DTSTART;TZID=America/Chicago:20240812T110000
DTEND;TZID=America/Chicago:20240812T133000
DTSTAMP:20260423T113647
CREATED:20240717T204047Z
LAST-MODIFIED:20240729T132126Z
UID:784-1723460400-1723469400@burgerbarnmn.com
SUMMARY:Cirrus Aircraft
DESCRIPTION:Cirrus Aircraft 11-1:30 \nBurger Barn at Cirrus Aircraft
URL:https://burgerbarnmn.com/events/cirrus-aircraft-2/
LOCATION:Cirrus Aircraft\, 4515 Taylor Circle\, Duluth\, MN\, 55811\, United States
END:VEVENT
BEGIN:VEVENT
DTSTART;TZID=America/Chicago:20240810T110000
DTEND;TZID=America/Chicago:20240810T140000
DTSTAMP:20260423T113647
CREATED:20240703T185353Z
LAST-MODIFIED:20240806T211551Z
UID:755-1723287600-1723298400@burgerbarnmn.com
SUMMARY:Shamrock Shindig
DESCRIPTION:Burger Barn at Shamrock Townhall \n11:00 am – 2:00 pm
URL:https://burgerbarnmn.com/events/shamrock-township/
LOCATION:Shamrock Shindig\, 49954 Lake Avenue\, McGregor\, MN\, 55760\, United States
END:VEVENT
BEGIN:VEVENT
DTSTART;TZID=America/Chicago:20240807T103000
DTEND;TZID=America/Chicago:20240807T143000
DTSTAMP:20260423T113647
CREATED:20240806T210536Z
LAST-MODIFIED:20240806T210536Z
UID:807-1723026600-1723041000@burgerbarnmn.com
SUMMARY:MSOP
DESCRIPTION:Burger Barn at MSOP \n10:30 am – 2:30 pm
URL:https://burgerbarnmn.com/events/msop/
LOCATION:MN
END:VEVENT
BEGIN:VEVENT
DTSTART;TZID=America/Chicago:20240805T110000
DTEND;TZID=America/Chicago:20240805T140000
DTSTAMP:20260423T113647
CREATED:20240717T203627Z
LAST-MODIFIED:20240717T203627Z
UID:776-1722855600-1722866400@burgerbarnmn.com
SUMMARY:Kolar Toyota
DESCRIPTION:Kolar Toyota 11-2 \nBurger Barn at Kolar Toyota
URL:https://burgerbarnmn.com/events/kolar-toyota/
LOCATION:Kolar Toyota\, 4781 Miller Trunk Hwy\, Hermantown\, MN\, 55811\, United States
END:VEVENT
BEGIN:VEVENT
DTSTART;TZID=America/Chicago:20240730T170000
DTEND;TZID=America/Chicago:20240730T200000
DTSTAMP:20260423T113647
CREATED:20240725T002228Z
LAST-MODIFIED:20240725T002228Z
UID:793-1722358800-1722369600@burgerbarnmn.com
SUMMARY:218 TapHouse
DESCRIPTION:Burger Barn at 218 TapHouse \n5-8 pm
URL:https://burgerbarnmn.com/events/218-taphouse-2/
LOCATION:218 TapHouse\, 918 Hwy 33\, Cloquet\, MN\, 55720\, United States
END:VEVENT
BEGIN:VEVENT
DTSTART;TZID=America/Chicago:20240729T110000
DTEND;TZID=America/Chicago:20240729T133000
DTSTAMP:20260423T113647
CREATED:20240717T203959Z
LAST-MODIFIED:20240729T132148Z
UID:781-1722250800-1722259800@burgerbarnmn.com
SUMMARY:Cirrus Aircraft
DESCRIPTION:Cirrus Aircraft 11-1:30 \nBurger Barn at Cirrus Aircraft
URL:https://burgerbarnmn.com/events/cirrus-aircraft/
LOCATION:Cirrus Aircraft\, 4515 Taylor Circle\, Duluth\, MN\, 55811\, United States
END:VEVENT
BEGIN:VEVENT
DTSTART;TZID=America/Chicago:20240726T110000
DTEND;TZID=America/Chicago:20240726T140000
DTSTAMP:20260423T113647
CREATED:20240709T221333Z
LAST-MODIFIED:20240709T221333Z
UID:771-1721991600-1722002400@burgerbarnmn.com
SUMMARY:Hometown Ace Hardware Grand Opening
DESCRIPTION:Burger Barn at Hometown Ace Hardware Grand Opening \n11 am – 2 pm
URL:https://burgerbarnmn.com/events/hometown-ace-hardware-grand-opening/
LOCATION:Hometown Ace Hardware\, Moose Lake\, MN\, 40 Arrowhead Lane\, Moose Lake\, MN\, 55767\, United States
END:VEVENT
BEGIN:VEVENT
DTSTART;TZID=America/Chicago:20240725T110000
DTEND;TZID=America/Chicago:20240725T140000
DTSTAMP:20260423T113647
CREATED:20240703T184905Z
LAST-MODIFIED:20240709T221227Z
UID:747-1721905200-1721916000@burgerbarnmn.com
SUMMARY:Hometown Ace Hardware
DESCRIPTION:Burger Barn at Hometown Ace Hardware\, Moose Lake \n11 am – 2 pm
URL:https://burgerbarnmn.com/events/hometown-hardware-grand-opening/
LOCATION:Hometown Ace Hardware\, Moose Lake\, MN\, 40 Arrowhead Lane\, Moose Lake\, MN\, 55767\, United States
END:VEVENT
BEGIN:VEVENT
DTSTART;TZID=America/Chicago:20240718T160000
DTEND;TZID=America/Chicago:20240718T190000
DTSTAMP:20260423T113647
CREATED:20240716T015426Z
LAST-MODIFIED:20240716T015426Z
UID:773-1721318400-1721329200@burgerbarnmn.com
SUMMARY:218 TapHouse
DESCRIPTION:Burger Barn at 218 TapHouse \n4-7 pm
URL:https://burgerbarnmn.com/events/218-taphouse/
LOCATION:218 TapHouse\, 918 Hwy 33\, Cloquet\, MN\, 55720\, United States
END:VEVENT
BEGIN:VEVENT
DTSTART;TZID=America/Chicago:20240714T120000
DTEND;TZID=America/Chicago:20240714T170000
DTSTAMP:20260423T113647
CREATED:20240624T022135Z
LAST-MODIFIED:20240706T213834Z
UID:689-1720958400-1720976400@burgerbarnmn.com
SUMMARY:Winehaven
DESCRIPTION:Burger Barn Food Truck at Winehaven \nChisago City\, MN \nJuly 13-14\, 12pm-5pm
URL:https://burgerbarnmn.com/events/winehaven-jul-14/
LOCATION:MN
END:VEVENT
BEGIN:VEVENT
DTSTART;TZID=America/Chicago:20240713T120000
DTEND;TZID=America/Chicago:20240713T170000
DTSTAMP:20260423T113647
CREATED:20240624T022029Z
LAST-MODIFIED:20240706T213906Z
UID:687-1720872000-1720890000@burgerbarnmn.com
SUMMARY:Winehaven
DESCRIPTION:Burger Barn Food Truck at Winehaven \nChisago City\, MN \nJuly 13-14\, 12pm-5pm
URL:https://burgerbarnmn.com/events/winehaven-jul-13/
LOCATION:MN
END:VEVENT
BEGIN:VEVENT
DTSTART;TZID=America/Chicago:20240710T110000
DTEND;TZID=America/Chicago:20240710T140000
DTSTAMP:20260423T113647
CREATED:20240709T211803Z
LAST-MODIFIED:20240709T211822Z
UID:766-1720609200-1720620000@burgerbarnmn.com
SUMMARY:Hometown Ace Hardware
DESCRIPTION:Burger Barn at Hometown Ace Hardware \n11 am to 2 pm
URL:https://burgerbarnmn.com/events/hometown-ace-hardware/
LOCATION:Hometown Ace Hardware\, Moose Lake\, MN\, 40 Arrowhead Lane\, Moose Lake\, MN\, 55767\, United States
END:VEVENT
END:VCALENDAR